BEGIN:VCALENDAR
VERSION:2.0
PRODID:-//DIGITAL FACTORY//EVENTS MAKER V1.6.14//EN
CALSCALE:GREGORIAN
BEGIN:VEVENT
DTEND:20190606T160000Z
UID:69e72809169a6
DTSTAMP:20260421T073225Z
LOCATION:East Stratford Community Pool 
DESCRIPTION:12 - 2 PM: Lunch  2 - 4 PM:&nbsp\;Desserts    Kick off summer with your neighbors at our 10th annual Pool Party!    This is a free event\, sponsored by the East Stratford HOA and hosted by the Social Committee.  &nbsp\;  **Rain date: Saturday\, June 20&nbsp\;
URL;VALUE=URI:https://eaststratfordhoa.com/events/event/annual-pool-party/
SUMMARY:Stratford&#039\;s Annual Pool Party June 6\, Noon - 4 PM
DTSTART:20190606T160000Z
END:VEVENT
END:VCALENDAR
