BEGIN:VCALENDAR
VERSION:2.0
PRODID:-//DIGITAL FACTORY//EVENTS MAKER V1.6.14//EN
CALSCALE:GREGORIAN
BEGIN:VEVENT
DTEND:20200609T010000Z
UID:69e65ac2eeb56
DTSTAMP:20260420T165634Z
LOCATION:East Stratford Clubhouse 
DESCRIPTION:All residents are welcome.    The social committee will be meeting via Zoom\, so if anyone interested in attending\, please contact EastStratfordSocial@gmail.com to attend.
URL;VALUE=URI:https://eaststratfordhoa.com/events/event/social-committee-meeting/
SUMMARY:Social Committee Meeting\, Monday\, June 8\, 7:30-9 PM
DTSTART:20200608T233000Z
RDATE:20200607T193000Z;
RDATE:20200608T193000Z;
END:VEVENT
END:VCALENDAR
