BEGIN:VCALENDAR
VERSION:2.0
PRODID:-//East Stratford HOA - ECPv5.8.2//NONSGML v1.0//EN
CALSCALE:GREGORIAN
METHOD:PUBLISH
X-WR-CALNAME:East Stratford HOA
X-ORIGINAL-URL:https://eaststratfordhoa.com
X-WR-CALDESC:Events for East Stratford HOA
BEGIN:VTIMEZONE
TZID:America/New_York
BEGIN:DAYLIGHT
TZOFFSETFROM:-0500
TZOFFSETTO:-0400
TZNAME:EDT
DTSTART:20260308T070000
END:DAYLIGHT
BEGIN:STANDARD
TZOFFSETFROM:-0400
TZOFFSETTO:-0500
TZNAME:EST
DTSTART:20261101T060000
END:STANDARD
END:VTIMEZONE
BEGIN:VEVENT
DTSTART;TZID=America/New_York:20260802T143000
DTEND;TZID=America/New_York:20260802T163000
DTSTAMP:20260422T111425
CREATED:20260422T120656Z
LAST-MODIFIED:20260422T120656Z
UID:4896-1785681000-1785688200@eaststratfordhoa.com
SUMMARY:Hershey’s Ice Cream Truck\, Sunday\, August 2\, 2:30 - 4:30 PM
DESCRIPTION:Hershey’s Ice Cream Truck \nSunday\, August 2\, 2:30 – 4:30 PM \nThe Hershey’s Truck will hand out one single serve ice cream cone or cup to any resident. They will not have their full menu available\, as we are expecting to serve a large volume of free scoops to our dues-paying residents. \n– This is a resident-only summer celebration\, do not invite guests. \n– Parking spaces will be limited as a section of the lot will be blocked off for the truck & festivities. Avoid the orange traffic cones. \nPaid for by the East Stratford Residential HOA and hosted by the Social Committee \nQuestions? Email us at EastStratfordSocial@gmail.com
URL:https://eaststratfordhoa.com/the-event/hersheys-ice-cream-truck-sunday-august-2-230-430-pm/
LOCATION:East Stratford Clubhouse
CATEGORIES:Social Committee
ATTACH;FMTTYPE=image/png:https://eaststratfordhoa.com/wp-content/uploads/product-page-hand-dipped.png
END:VEVENT
END:VCALENDAR