BEGIN:VCALENDAR
VERSION:2.0
PRODID:-//East Stratford HOA - ECPv5.8.2//NONSGML v1.0//EN
CALSCALE:GREGORIAN
METHOD:PUBLISH
X-WR-CALNAME:East Stratford HOA
X-ORIGINAL-URL:https://eaststratfordhoa.com
X-WR-CALDESC:Events for East Stratford HOA
BEGIN:VTIMEZONE
TZID:America/New_York
BEGIN:DAYLIGHT
TZOFFSETFROM:-0500
TZOFFSETTO:-0400
TZNAME:EDT
DTSTART:20260308T070000
END:DAYLIGHT
BEGIN:STANDARD
TZOFFSETFROM:-0400
TZOFFSETTO:-0500
TZNAME:EST
DTSTART:20261101T060000
END:STANDARD
END:VTIMEZONE
BEGIN:VEVENT
DTSTART;VALUE=DATE:20260520
DTEND;VALUE=DATE:20260521
DTSTAMP:20260422T113757
CREATED:20260422T122348Z
LAST-MODIFIED:20260422T122348Z
UID:4898-1779235200-1779321599@eaststratfordhoa.com
SUMMARY:Swim Team: Outfitting (Time: TBA)
DESCRIPTION:
URL:https://eaststratfordhoa.com/the-event/swim-team-outfitting-time-tba/
LOCATION:East Stratford Clubhouse
END:VEVENT
END:VCALENDAR